BEGIN:VCALENDAR
VERSION:2.0
PRODID:SchoolNow
CALSCALE:GREGORIAN
BEGIN:VEVENT
UID:c2c6ab16-fbdd-11ed-bf0b-0e8d195c716b
DTSTAMP:20230714T211333Z
SUMMARY:CDD Special Meeting - Jul. 2023
LOCATION:Brighton Lakes Recreation Center\, 4250 Brighton Lakes Boulevard\,
  Kissimmee\, Florida
URL;VALUE=URI:https://www.brightonlakescdd.org/calendar/4304787/cdd-special
 -meeting-jul-2023
DTSTART:20230720T220000Z
DTEND:20230720T230000Z
ATTACH;FILENAME=2023-07-20 Agenda Package-1.pdf;FMTTYPE=application/pdf:htt
 ps://campussuite-storage.s3.amazonaws.com/prod/1558934/f0cde570-f050-11e9-
 8800-12606da399aa/2630405/44481732-228b-11ee-b57e-0e28888e306f/file/2023-0
 7-20 Agenda Package-1.pdf
END:VEVENT
END:VCALENDAR
