BEGIN:VCALENDAR
VERSION:2.0
PRODID:SchoolNow
CALSCALE:GREGORIAN
BEGIN:VEVENT
UID:0726ce16-2877-11ed-bf22-0a6246f0f0b7
DTSTAMP:20230601T210443Z
SUMMARY:CDD Board Workshop - Jun. 2023
LOCATION:Brighton Lakes Recreation Center\, 4250 Brighton Lakes Boulevard\,
  Kissimmee\, Florida
URL;VALUE=URI:https://www.brightonlakescdd.org/calendar/3317814/cdd-board-w
 orkshop-jun-2023
DTSTART:20230608T220000Z
DTEND:20230608T230000Z
ATTACH;FILENAME=2023-06-08 Agenda-1.pdf;FMTTYPE=application/pdf:https://cam
 pussuite-storage.s3.amazonaws.com/prod/1558934/f0cde570-f050-11e9-8800-126
 06da399aa/2606623/eb297728-00bf-11ee-8988-0e19ea4df8e3/file/2023-06-08 Age
 nda-1.pdf
END:VEVENT
END:VCALENDAR
