BEGIN:VCALENDAR
VERSION:2.0
PRODID:SchoolNow
CALSCALE:GREGORIAN
BEGIN:VEVENT
UID:f98aa3a4-2876-11ed-81ed-0a6246f0f0b7
DTSTAMP:20230406T200724Z
SUMMARY:CDD Board Workshop - Apr. 2023
LOCATION:Brighton Lakes Recreation Center\, 4250 Brighton Lakes Boulevard\,
  Kissimmee\, Florida
URL;VALUE=URI:https://www.brightonlakescdd.org/calendar/3317813/cdd-board-w
 orkshop-apr-2023
DTSTART:20230413T220000Z
DTEND:20230413T230000Z
ATTACH;FILENAME=2023-04- 13 Agenda.pdf;FMTTYPE=application/pdf:https://camp
 ussuite-storage.s3.amazonaws.com/prod/1558934/f0cde570-f050-11e9-8800-1260
 6da399aa/2577678/a2a61f18-d4b6-11ed-9ded-0a4f23827eb7/file/2023-04- 13 Age
 nda.pdf
END:VEVENT
END:VCALENDAR
