BEGIN:VCALENDAR
VERSION:2.0
PRODID:SchoolNow
CALSCALE:GREGORIAN
BEGIN:VEVENT
UID:eb6c3260-2876-11ed-9be1-0a6246f0f0b7
DTSTAMP:20230216T171501Z
SUMMARY:CDD Board Workshop - Feb. 2023
LOCATION:Brighton Lakes Recreation Center\, 4250 Brighton Lakes Boulevard\,
  Kissimmee\, Florida
URL;VALUE=URI:https://www.brightonlakescdd.org/calendar/3317808/cdd-board-w
 orkshop-feb-2023
DTSTART:20230216T230000Z
DTEND:20230217T000000Z
ATTACH;FILENAME=2023-02-16 Brighton Lakes CDD Agenda.pdf;FMTTYPE=applicatio
 n/pdf:https://campussuite-storage.s3.amazonaws.com/prod/1558934/f0cde570-f
 050-11e9-8800-12606da399aa/2552548/7012cfd4-ae1d-11ed-a284-0a27fa7d4407/fi
 le/2023-02-16 Brighton Lakes CDD Agenda.pdf
END:VEVENT
END:VCALENDAR
