BEGIN:VCALENDAR
VERSION:2.0
PRODID:SchoolNow
CALSCALE:GREGORIAN
BEGIN:VEVENT
UID:c55bad1c-2876-11ed-8943-0a6246f0f0b7
DTSTAMP:20221005T174239Z
SUMMARY:CDD Board Workshop - Oct. 2022
LOCATION:Brighton Lakes Recreation Center\, 4250 Brighton Lakes Boulevard\,
  Kissimmee\, Florida
URL;VALUE=URI:https://www.brightonlakescdd.org/calendar/3317806/cdd-board-w
 orkshop-oct-2022
DTSTART:20221013T220000Z
DTEND:20221013T230000Z
ATTACH;FILENAME=2022-10-13 Brighton Lakes WS Agenda.pdf;FMTTYPE=application
 /pdf:https://campussuite-storage.s3.amazonaws.com/prod/1558934/f0cde570-f0
 50-11e9-8800-12606da399aa/2487669/18f4650c-44d5-11ed-b503-02c4ab09f06d/fil
 e/2022-10-13 Brighton Lakes WS Agenda.pdf
END:VEVENT
END:VCALENDAR
