BEGIN:VCALENDAR
VERSION:2.0
PRODID:SchoolNow
CALSCALE:GREGORIAN
BEGIN:VEVENT
UID:9ce8f042-2876-11ed-bea3-0a6246f0f0b7
DTSTAMP:20230601T175206Z
SUMMARY:CDD Board Meeting - Jul. 2023 - Cancelled
LOCATION:Brighton Lakes Recreation Center\, 4250 Brighton Lakes Boulevard\,
  Kissimmee\, Florida 34746
URL;VALUE=URI:https://www.brightonlakescdd.org/calendar/3317804/cdd-board-m
 eeting-jul-2023
DTSTART:20230706T220000Z
DTEND:20230706T230000Z
END:VEVENT
END:VCALENDAR
