BEGIN:VCALENDAR
VERSION:2.0
PRODID:SchoolNow
CALSCALE:GREGORIAN
BEGIN:VEVENT
UID:8f04a390-2876-11ed-be6b-0a6246f0f0b7
DTSTAMP:20230502T125426Z
SUMMARY:CDD Board Meeting - May 2023
LOCATION:Brighton Lakes Recreation Center\, 4250 Brighton Lakes Boulevard\,
  Kissimmee\, Florida 34746
URL;VALUE=URI:https://www.brightonlakescdd.org/calendar/3317803/cdd-board-m
 eeting-may-2023
DTSTART:20230504T220000Z
DTEND:20230504T230000Z
ATTACH;FILENAME=2023-05-04 Agenda Package.pdf;FMTTYPE=application/pdf:https
 ://campussuite-storage.s3.amazonaws.com/prod/1558934/f0cde570-f050-11e9-88
 00-12606da399aa/2586504/73f2d3fa-e8e8-11ed-bbb4-0244fc6cfaaf/file/2023-05-
 04 Agenda Package.pdf
END:VEVENT
END:VCALENDAR
