BEGIN:VCALENDAR
VERSION:2.0
PRODID:SchoolNow
CALSCALE:GREGORIAN
BEGIN:VEVENT
UID:83aa2664-2876-11ed-b9b2-0a355f2f045f
DTSTAMP:20230223T213842Z
SUMMARY:CDD Board Meeting - Mar. 2023
LOCATION:Brighton Lakes Recreation Center\, 4250 Brighton Lakes Boulevard\,
  Kissimmee\, Florida 34746
URL;VALUE=URI:https://www.brightonlakescdd.org/calendar/3317802/cdd-board-m
 eeting-mar-2023
DTSTART:20230302T230000Z
DTEND:20230303T000000Z
ATTACH;FILENAME=2023-03-02 Agenda Package.pdf;FMTTYPE=application/pdf:https
 ://campussuite-storage.s3.amazonaws.com/prod/1558934/f0cde570-f050-11e9-88
 00-12606da399aa/2555337/40f00d30-b3c1-11ed-ace4-0e72f406e80d/file/2023-03-
 02 Agenda Package.pdf
END:VEVENT
END:VCALENDAR
