BEGIN:VCALENDAR
VERSION:2.0
PRODID:SchoolNow
CALSCALE:GREGORIAN
BEGIN:VEVENT
UID:76d6bb8c-2876-11ed-a564-0a355f2f045f
DTSTAMP:20221228T204710Z
SUMMARY:CDD Board Meeting - Jan. 2023
LOCATION:Brighton Lakes Recreation Center\, 4250 Brighton Lakes Boulevard\,
  Kissimmee\, Florida 34746
URL;VALUE=URI:https://www.brightonlakescdd.org/calendar/3317801/cdd-board-m
 eeting-jan-2023
DTSTART:20230105T230000Z
DTEND:20230106T000000Z
ATTACH;FILENAME=2023-01-05 Brighton Lakes Agenda Package.pdf;FMTTYPE=applic
 ation/pdf:https://campussuite-storage.s3.amazonaws.com/prod/1558934/f0cde5
 70-f050-11e9-8800-12606da399aa/2531845/c019eac0-86f0-11ed-af74-0224f908201
 d/file/2023-01-05 Brighton Lakes Agenda Package.pdf
END:VEVENT
END:VCALENDAR
