BEGIN:VCALENDAR
VERSION:2.0
PRODID:SchoolNow
CALSCALE:GREGORIAN
BEGIN:VEVENT
UID:658d1ba0-2876-11ed-8d94-0a355f2f045f
DTSTAMP:20221028T130832Z
SUMMARY:CDD Board Meeting - Nov. 2022
LOCATION:Brighton Lakes Recreation Center\, 4250 Brighton Lakes Boulevard\,
  Kissimmee\, Florida 34746
URL;VALUE=URI:https://www.brightonlakescdd.org/calendar/3317800/cdd-board-m
 eeting-nov-2022
DTSTART:20221103T220000Z
DTEND:20221103T230000Z
ATTACH;FILENAME=2022-11-03 Brighton Lakes CDD Agenda Pkg.pdf;FMTTYPE=applic
 ation/pdf:https://campussuite-storage.s3.amazonaws.com/prod/1558934/f0cde5
 70-f050-11e9-8800-12606da399aa/2499085/98266228-56c1-11ed-ab3a-02a5e324add
 3/file/2022-11-03 Brighton Lakes CDD Agenda Pkg.pdf
END:VEVENT
END:VCALENDAR
