BEGIN:VCALENDAR
VERSION:2.0
PRODID:SchoolNow
CALSCALE:GREGORIAN
BEGIN:VEVENT
UID:a70a0646-723d-11ec-b395-0e5cc4685345
DTSTAMP:20220121T144215Z
SUMMARY:CDD Special Meeting  - Jan. 2022
LOCATION:Brighton Lakes Recreation Center\, 4250 Brighton Lakes Boulevard\,
  Kissimmee\, Florida 34746 / Call in: 646-838-1601 Conference ID: 679 937 
 019#
URL;VALUE=URI:https://www.brightonlakescdd.org/calendar/3067706/cdd-special
 -meeting-jan-2022
DTSTART:20220125T230000Z
DTEND:20220126T000000Z
ATTACH;FILENAME=2022-01-25 Brighton Lakes Agenda.pdf;FMTTYPE=application/pd
 f:https://campussuite-storage.s3.amazonaws.com/prod/1558934/f0cde570-f050-
 11e9-8800-12606da399aa/2364624/52829096-789d-11ec-95dd-022d8fdecaf3/file/2
 022-01-25 Brighton Lakes Agenda.pdf
END:VEVENT
END:VCALENDAR
