BEGIN:VCALENDAR
VERSION:2.0
PRODID:SchoolNow
CALSCALE:GREGORIAN
BEGIN:VEVENT
UID:52a7e9e6-1adc-11ec-929a-02f3950f649d
DTSTAMP:20220809T152946Z
SUMMARY:CDD Board Workshop - Aug. 2022
LOCATION:Call In: 646-838-1601\, Conference ID: 494446920# . Digital/Call-I
 n Only
URL;VALUE=URI:https://www.brightonlakescdd.org/calendar/2753119/cdd-board-w
 orkshop-aug-2022
DTSTART:20220811T220000Z
DTEND:20220811T230000Z
ATTACH;FILENAME=2022-08-11 Brighton Lakes WS Agenda.pdf;FMTTYPE=application
 /pdf:https://campussuite-storage.s3.amazonaws.com/prod/1558934/f0cde570-f0
 50-11e9-8800-12606da399aa/2455481/f105f0a8-1421-11ed-8150-0a00004c2ceb/fil
 e/2022-08-11 Brighton Lakes WS Agenda.pdf
END:VEVENT
END:VCALENDAR
