BEGIN:VCALENDAR
VERSION:2.0
PRODID:SchoolNow
CALSCALE:GREGORIAN
BEGIN:VEVENT
UID:3b270810-1adc-11ec-b4d8-02f3950f649d
DTSTAMP:20220608T123127Z
SUMMARY:CDD Board Workshop - Jun. 2022
LOCATION:Brighton Lakes Recreation Center\, 4250 Brighton Lakes Boulevard\,
  Kissimmee\, Florida 34746 – No vendors required
URL;VALUE=URI:https://www.brightonlakescdd.org/calendar/2753118/cdd-board-w
 orkshop-jun-2022
DTSTART:20220609T220000Z
DTEND:20220609T230000Z
ATTACH;FILENAME=2022-06-09 Brighton Lakes WS Agenda.pdf;FMTTYPE=application
 /pdf:https://campussuite-storage.s3.amazonaws.com/prod/1558934/f0cde570-f0
 50-11e9-8800-12606da399aa/2432129/e6d8cd4e-e726-11ec-9894-02d18d43fbc3/fil
 e/2022-06-09 Brighton Lakes WS Agenda.pdf
END:VEVENT
END:VCALENDAR
