BEGIN:VCALENDAR
VERSION:2.0
PRODID:SchoolNow
CALSCALE:GREGORIAN
BEGIN:VEVENT
UID:02820b18-1adc-11ec-a6df-02f3950f649d
DTSTAMP:20220411T211336Z
SUMMARY:CDD Board Workshop - Apr. 2022
LOCATION:Call In: 646-838-1601\, Conference ID: 494446920# . Digital/Call-I
 n Only
URL;VALUE=URI:https://www.brightonlakescdd.org/calendar/2753091/cdd-board-w
 orkshop-apr-2022
DTSTART:20220414T220000Z
DTEND:20220414T230000Z
ATTACH;FILENAME=2022-04-14 Brighton Lakes WS Agenda.pdf;FMTTYPE=application
 /pdf:https://campussuite-storage.s3.amazonaws.com/prod/1558934/f0cde570-f0
 50-11e9-8800-12606da399aa/2400552/37ddc104-b9dc-11ec-834a-0a2f4c08aabf/fil
 e/2022-04-14 Brighton Lakes WS Agenda.pdf
END:VEVENT
END:VCALENDAR
