BEGIN:VCALENDAR
VERSION:2.0
PRODID:SchoolNow
CALSCALE:GREGORIAN
BEGIN:VEVENT
UID:efbb7fa0-1adb-11ec-98fa-02f3950f649d
DTSTAMP:20220211T093520Z
SUMMARY:CDD Board Workshop - Feb. 2022 - Digital Only
LOCATION:See event details for more information
URL;VALUE=URI:https://www.brightonlakescdd.org/calendar/2753090/cdd-board-w
 orkshop-feb-2022
DTSTART:20220217T230000Z
DTEND:20220218T000000Z
ATTACH;FILENAME=2022-02-17 Brighton Lakes Workshop Agenda.pdf;FMTTYPE=appli
 cation/pdf:https://campussuite-storage.s3.amazonaws.com/prod/1558934/f0cde
 570-f050-11e9-8800-12606da399aa/2374106/cf204b1a-8b1d-11ec-9566-0e0689718b
 51/file/2022-02-17 Brighton Lakes Workshop Agenda.pdf
END:VEVENT
END:VCALENDAR
