BEGIN:VCALENDAR
VERSION:2.0
PRODID:SchoolNow
CALSCALE:GREGORIAN
BEGIN:VEVENT
UID:d367b40e-1adb-11ec-a6ec-02f3950f649d
DTSTAMP:20211206T210709Z
SUMMARY:CDD Board Workshop - Dec. 2021
LOCATION:Brighton Lakes Recreation Center\, 4250 Brighton Lakes Boulevard\,
  Kissimmee\, Florida 34746 / 646-838-1601 Conference ID: 494 446 920#
URL;VALUE=URI:https://www.brightonlakescdd.org/calendar/2753089/cdd-board-w
 orkshop-dec-2021
DTSTART:20211210T000000Z
DTEND:20211210T010000Z
ATTACH;FILENAME=2021-12-09  Workshop Agenda.pdf;FMTTYPE=application/pdf:htt
 ps://campussuite-storage.s3.amazonaws.com/prod/1558934/f0cde570-f050-11e9-
 8800-12606da399aa/2351451/6aaf86ba-56d8-11ec-bdaa-0ec886a7f319/file/2021-1
 2-09  Workshop Agenda.pdf
END:VEVENT
END:VCALENDAR
