BEGIN:VCALENDAR
VERSION:2.0
PRODID:SchoolNow
CALSCALE:GREGORIAN
BEGIN:VEVENT
UID:b7f8238e-1adb-11ec-a520-02f3950f649d
DTSTAMP:20211007T203728Z
SUMMARY:CDD Board Workshop - Oct. 2021
LOCATION:Call in Only – 1-646-838-1601\, 494446920#
URL;VALUE=URI:https://www.brightonlakescdd.org/calendar/2753088/cdd-board-m
 eeting-nov-2021-clone
DTSTART:20211014T220000Z
DTEND:20211014T230000Z
ATTACH;FILENAME=2021-10-14 Brighton Lakes CDD Workshop Agenda.pdf;FMTTYPE=a
 pplication/pdf:https://campussuite-storage.s3.amazonaws.com/prod/1558934/f
 0cde570-f050-11e9-8800-12606da399aa/2325843/467b7824-27aa-11ec-9b1c-0e8be1
 c7d89f/file/2021-10-14 Brighton Lakes CDD Workshop Agenda.pdf
END:VEVENT
END:VCALENDAR
