BEGIN:VCALENDAR
VERSION:2.0
PRODID:SchoolNow
CALSCALE:GREGORIAN
BEGIN:VEVENT
UID:6c1f7fe6-fc33-11eb-b609-0efb36f413cd
DTSTAMP:20220825T180235Z
SUMMARY:CDD Board Meeting - Sept. 2022
LOCATION:Brighton Lakes Recreation Center\, 4250 Brighton Lakes Boulevard\,
  Kissimmee\, Florida 34746 / Call in:  646-838-1601  Conference ID: 679 93
 7 019#
URL;VALUE=URI:https://www.brightonlakescdd.org/calendar/2669701/cdd-board-m
 eeting-sept-2022
DTSTART:20220901T220000Z
DTEND:20220901T230000Z
ATTACH;FILENAME=2022-09-01 Brighton Lakes Agenda.pdf;FMTTYPE=application/pd
 f:https://campussuite-storage.s3.amazonaws.com/prod/1558934/f0cde570-f050-
 11e9-8800-12606da399aa/2467149/157fb2a0-24a0-11ed-99d9-0234ddcc5c9d/file/2
 022-09-01 Brighton Lakes Agenda.pdf
END:VEVENT
END:VCALENDAR
