BEGIN:VCALENDAR
VERSION:2.0
PRODID:SchoolNow
CALSCALE:GREGORIAN
BEGIN:VEVENT
UID:5b7351a4-fc33-11eb-a7f9-0efb36f413cd
DTSTAMP:20220630T213301Z
SUMMARY:CDD Board Meeting - Budget Public Hearing - Jul. 2022
LOCATION:Brighton Lakes Recreation Center\, 4250 Brighton Lakes Boulevard\,
  Kissimmee\, Florida 34746 / Call in:  646-838-1601  Conference ID: 679 93
 7 019#
URL;VALUE=URI:https://www.brightonlakescdd.org/calendar/2669700/cdd-board-m
 eeting-jul-2022
DTSTART:20220707T220000Z
DTEND:20220707T230000Z
ATTACH;FILENAME=2022-07-07 Brighton Lakes Agenda.pdf;FMTTYPE=application/pd
 f:https://campussuite-storage.s3.amazonaws.com/prod/1558934/f0cde570-f050-
 11e9-8800-12606da399aa/2441691/34f5532a-f8bc-11ec-ab52-0271ff5721b3/file/2
 022-07-07 Brighton Lakes Agenda.pdf
END:VEVENT
END:VCALENDAR
