BEGIN:VCALENDAR
VERSION:2.0
PRODID:SchoolNow
CALSCALE:GREGORIAN
BEGIN:VEVENT
UID:4829a666-fc33-11eb-8b3a-0efb36f413cd
DTSTAMP:20220503T161520Z
SUMMARY:CDD Board Meeting - May 2022
LOCATION:Brighton Lakes Recreation Center\, 4250 Brighton Lakes Boulevard\,
  Kissimmee\, Florida 34746 / Call in:  646-838-1601  Conference ID: 679 93
 7 019#
URL;VALUE=URI:https://www.brightonlakescdd.org/calendar/2669699/cdd-board-m
 eeting-may-2022
DTSTART:20220505T220000Z
DTEND:20220505T230000Z
ATTACH;FILENAME=2022-05-05 Brighton Lakes Agenda Revised.pdf;FMTTYPE=applic
 ation/pdf:https://campussuite-storage.s3.amazonaws.com/prod/1558934/f0cde5
 70-f050-11e9-8800-12606da399aa/2410376/34cdf822-cafc-11ec-9a6b-02f528d435e
 b/file/2022-05-05 Brighton Lakes Agenda Revised.pdf
END:VEVENT
END:VCALENDAR
