BEGIN:VCALENDAR
VERSION:2.0
PRODID:SchoolNow
CALSCALE:GREGORIAN
BEGIN:VEVENT
UID:3092ef08-fc33-11eb-8f4e-0efb36f413cd
DTSTAMP:20220225T164931Z
SUMMARY:CDD Board Meeting - Mar. 2022
LOCATION:Valencia  College\, Osceola Campus\, 1800 Denn  John  Lane\, Kissi
 mmee  FL 34744\, Building OC-001\,  Room  123.  / Call in:  646-838-1601  
 Conference ID: 679 937 019#
URL;VALUE=URI:https://www.brightonlakescdd.org/calendar/2669698/cdd-board-m
 eeting-mar-2022
DTSTART:20220303T230000Z
DTEND:20220304T000000Z
ATTACH;FILENAME=;FMTTYPE=application/octet-stream:
ATTACH;FILENAME=2022-03-03 Agenda.pdf;FMTTYPE=application/pdf:https://campu
 ssuite-storage.s3.amazonaws.com/prod/1558934/f0cde570-f050-11e9-8800-12606
 da399aa/2380203/e3f748d4-965a-11ec-b7a2-0eccaa0682cd/file/2022-03-03 Agend
 a.pdf
END:VEVENT
END:VCALENDAR
