BEGIN:VCALENDAR
VERSION:2.0
PRODID:SchoolNow
CALSCALE:GREGORIAN
BEGIN:VEVENT
UID:19c0abee-fc33-11eb-96a8-0efb36f413cd
DTSTAMP:20211230T142943Z
SUMMARY:CDD Board Meeting - Jan. 2022
LOCATION:Brighton Lakes Recreation Center\, 4250 Brighton Lakes Boulevard\,
  Kissimmee\, Florida 34746 / Call in:  646-838-1601  Conference ID: 679 93
 7 019#
URL;VALUE=URI:https://www.brightonlakescdd.org/calendar/2669697/cdd-board-m
 eeting-jan-2021
DTSTART:20220106T230000Z
DTEND:20220107T000000Z
ATTACH;FILENAME=2022-01-06 Brighton Lakes Agenda.pdf;FMTTYPE=application/pd
 f:https://campussuite-storage.s3.amazonaws.com/prod/1558934/f0cde570-f050-
 11e9-8800-12606da399aa/2358809/ea8e8528-697c-11ec-85ca-02d514c96d3f/file/2
 022-01-06 Brighton Lakes Agenda.pdf
END:VEVENT
END:VCALENDAR
