BEGIN:VCALENDAR
VERSION:2.0
PRODID:SchoolNow
CALSCALE:GREGORIAN
BEGIN:VEVENT
UID:0ddfe2e0-fc33-11eb-a08b-0efb36f413cd
DTSTAMP:20220111T131338Z
SUMMARY:CDD Board Meeting - Nov. 2021
LOCATION:Brighton Lakes Recreation Center\, 4250 Brighton Lakes Boulevard\,
  Kissimmee\, Florida 34746 / Call in:  646-838-1601  Conference ID: 679 93
 7 019#
URL;VALUE=URI:https://www.brightonlakescdd.org/calendar/2669696/cdd-board-m
 eeting-nov-2021
DTSTART:20211104T220000Z
DTEND:20211104T230000Z
ATTACH;FILENAME=2021-11-04 Brighton Lakes Agenda.pdf;FMTTYPE=application/pd
 f:https://campussuite-storage.s3.amazonaws.com/prod/1558934/f0cde570-f050-
 11e9-8800-12606da399aa/2336655/f5266e5c-381b-11ec-8930-0ac851a08b71/file/2
 021-11-04 Brighton Lakes Agenda.pdf
ATTACH;FILENAME=2021-11-04 Brighton Lakes Minutes.pdf;FMTTYPE=application/p
 df:https://campussuite-storage.s3.amazonaws.com/prod/1558934/f0cde570-f050
 -11e9-8800-12606da399aa/2361935/46c15be2-72e0-11ec-a141-0af715d43251/file/
 2021-11-04 Brighton Lakes Minutes.pdf
END:VEVENT
END:VCALENDAR
