BEGIN:VCALENDAR
VERSION:2.0
PRODID:SchoolNow
CALSCALE:GREGORIAN
BEGIN:VEVENT
UID:e1af62cc-776c-11eb-a55c-0eb65a254485
DTSTAMP:20210225T132546Z
SUMMARY:CDD  Workshop - Mar. 2021
LOCATION:Brighton Lakes Recreation Center\, 4250 Brighton Lakes Boulevard\,
  Kissimmee\, Florida 34746
URL;VALUE=URI:https://www.brightonlakescdd.org/calendar/2546492/tentative-b
 udget-meeting-mar-2021-clone
DTSTART:20210304T220000Z
DTEND:20210304T230000Z
ATTACH;FILENAME=2021-03-04 Workshop Agenda Package.pdf;FMTTYPE=application/
 pdf:https://campussuite-storage.s3.amazonaws.com/prod/1558934/f0cde570-f05
 0-11e9-8800-12606da399aa/2231339/b4e1ccc6-776c-11eb-9914-0eb65a254485/file
 /2021-03-04 Workshop Agenda Package.pdf
END:VEVENT
END:VCALENDAR
