BEGIN:VCALENDAR
VERSION:2.0
PRODID:SchoolNow
CALSCALE:GREGORIAN
BEGIN:VEVENT
UID:c2b04196-f9e7-11ea-a14e-12fbeb94a6dd
DTSTAMP:20210902T143631Z
SUMMARY:CDD Board Meeting - Sep. 2021
LOCATION:Brighton Lakes Recreation Center\, 4250 Brighton Lakes Boulevard\,
  Kissimmee\, Florida 34746. Call in number: 646-838-1601  Call in ID 678 6
 98 897#
URL;VALUE=URI:https://www.brightonlakescdd.org/calendar/2365148/cdd-board-m
 eeting-sep-2021
DTSTART:20210902T220000Z
DTEND:20210902T230000Z
ATTACH;FILENAME=2021-09-02 Brighton Lakes Agenda.pdf;FMTTYPE=application/pd
 f:https://campussuite-storage.s3.amazonaws.com/prod/1558934/f0cde570-f050-
 11e9-8800-12606da399aa/2306656/4a4f8bca-0685-11ec-9473-0a40d2df2d85/file/2
 021-09-02 Brighton Lakes Agenda.pdf
END:VEVENT
END:VCALENDAR
