BEGIN:VCALENDAR
VERSION:2.0
PRODID:SchoolNow
CALSCALE:GREGORIAN
BEGIN:VEVENT
UID:b414bd4c-f9e7-11ea-8053-12fbeb94a6dd
DTSTAMP:20210624T155523Z
SUMMARY:CDD Board Meeting - Jul. 2021
LOCATION:Brighton Lakes Recreation Center\, 4250 Brighton Lakes Boulevard\,
  Kissimmee\, Florida 34746
URL;VALUE=URI:https://www.brightonlakescdd.org/calendar/2365147/cdd-board-m
 eeting-jul-2021
DTSTART:20210701T220000Z
DTEND:20210701T230000Z
ATTACH;FILENAME=2021-07-01 Brighton Lakes Agenda.pdf;FMTTYPE=application/pd
 f:https://campussuite-storage.s3.amazonaws.com/prod/1558934/f0cde570-f050-
 11e9-8800-12606da399aa/2284155/924859dc-d504-11eb-87e8-0e3e7d3fb5e3/file/2
 021-07-01 Brighton Lakes Agenda.pdf
END:VEVENT
END:VCALENDAR
