BEGIN:VCALENDAR
VERSION:2.0
PRODID:SchoolNow
CALSCALE:GREGORIAN
BEGIN:VEVENT
UID:d7492dd0-f9e6-11ea-bd99-12fef08a5377
DTSTAMP:20210712T131211Z
SUMMARY:PH Budget Adoption Meeting - May 2021
LOCATION:Brighton Lakes Recreation Center\, 4250 Brighton Lakes Boulevard\,
  Kissimmee\, Florida 34746
URL;VALUE=URI:https://www.brightonlakescdd.org/calendar/2365146/ph-budget-a
 doption-meeting-may-2021
DTSTART:20210506T220000Z
DTEND:20210506T230000Z
ATTACH;FILENAME=2021-05-06 Brighton Lakes Agenda.pdf;FMTTYPE=application/pd
 f:https://campussuite-storage.s3.amazonaws.com/prod/1558934/f0cde570-f050-
 11e9-8800-12606da399aa/2257867/6d01df60-a956-11eb-bced-0e5863696e01/file/2
 021-05-06 Brighton Lakes Agenda.pdf
ATTACH;FILENAME=2021-05-06 Brighton Lakes Meeting Mins.pdf;FMTTYPE=applicat
 ion/pdf:https://campussuite-storage.s3.amazonaws.com/prod/1558934/f0cde570
 -f050-11e9-8800-12606da399aa/2290002/c0630da0-e312-11eb-9714-0ef5ffbf8fd9/
 file/2021-05-06 Brighton Lakes Meeting Mins.pdf
END:VEVENT
END:VCALENDAR
