BEGIN:VCALENDAR
VERSION:2.0
PRODID:SchoolNow
CALSCALE:GREGORIAN
BEGIN:VEVENT
UID:c73e2f58-f9e6-11ea-a47d-12fef08a5377
DTSTAMP:20210302T012716Z
SUMMARY:Tentative Budget Meeting - Mar. 2021
LOCATION:Brighton Lakes Recreation Center\, 4250 Brighton Lakes Boulevard\,
  Kissimmee\, Florida 34746
URL;VALUE=URI:https://www.brightonlakescdd.org/calendar/2365145/tentative-b
 udget-meeting-mar-2021
DTSTART:20210304T230000Z
DTEND:20210305T000000Z
ATTACH;FILENAME=2021-03-04 Brighton Lakes Agenda.pdf;FMTTYPE=application/pd
 f:https://campussuite-storage.s3.amazonaws.com/prod/1558934/f0cde570-f050-
 11e9-8800-12606da399aa/2233577/5a329692-7af6-11eb-b155-0ee46e356371/file/2
 021-03-04 Brighton Lakes Agenda.pdf
END:VEVENT
END:VCALENDAR
