BEGIN:VCALENDAR
VERSION:2.0
PRODID:SchoolNow
CALSCALE:GREGORIAN
BEGIN:VEVENT
UID:b02eedca-f9e6-11ea-ab19-12fef08a5377
DTSTAMP:20210104T135906Z
SUMMARY:CDD Board Meeting - Jan. 2021
LOCATION:Brighton Lakes Recreation Center\, 4250 Brighton Lakes Boulevard\,
  Kissimmee\, Florida 34746
URL;VALUE=URI:https://www.brightonlakescdd.org/calendar/2365144/cdd-board-m
 eeting-jan-2021
DTSTART:20210107T230000Z
DTEND:20210108T000000Z
ATTACH;FILENAME=2021-01-07 Brighton Lakes Agenda updated.pdf;FMTTYPE=applic
 ation/pdf:https://campussuite-storage.s3.amazonaws.com/prod/1558934/f0cde5
 70-f050-11e9-8800-12606da399aa/2208503/fd030534-4e94-11eb-98db-02f0ca49b24
 b/file/2021-01-07 Brighton Lakes Agenda updated.pdf
END:VEVENT
END:VCALENDAR
