BEGIN:VCALENDAR
VERSION:2.0
PRODID:SchoolNow
CALSCALE:GREGORIAN
BEGIN:VEVENT
UID:bb9111ae-f9e4-11ea-afc2-120668e7e8c3
DTSTAMP:20210123T192229Z
SUMMARY:CDD Board Meeting - Nov. 2020
LOCATION:Brighton Lakes Recreation Center\, 4250 Brighton Lakes Boulevard\,
  Kissimmee\, Florida 34746
URL;VALUE=URI:https://www.brightonlakescdd.org/calendar/2364927/cdd-board-m
 eeting-nov-2020
DTSTART:20201105T230000Z
DTEND:20201106T000000Z
ATTACH;FILENAME=2020-11-05 Brighton Lakes Agenda HGS Comment.pdf;FMTTYPE=ap
 plication/pdf:https://campussuite-storage.s3.amazonaws.com/prod/1558934/f0
 cde570-f050-11e9-8800-12606da399aa/2177726/5e1448cc-19ea-11eb-83d3-1200ab4
 4e613/file/2020-11-05 Brighton Lakes Agenda HGS Comment.pdf
ATTACH;FILENAME=2020-11-05 Brighton Lakes- Executed Meeting Mins..pdf;FMTTY
 PE=application/pdf:https://campussuite-storage.s3.amazonaws.com/prod/15589
 34/f0cde570-f050-11e9-8800-12606da399aa/2218553/5238fe3a-5db0-11eb-b5d4-0a
 dc7c47c4cb/file/2020-11-05 Brighton Lakes- Executed Meeting Mins..pdf
END:VEVENT
END:VCALENDAR
