BEGIN:VCALENDAR
VERSION:2.0
PRODID:SchoolNow
CALSCALE:GREGORIAN
BEGIN:VEVENT
UID:dfd352a6-9a09-11ea-b87d-1205390d9991
DTSTAMP:20200522T130741Z
SUMMARY:CDD Special Meeting - Jun. 2020
LOCATION:800-747-5150\, Access Code: 8185960#
URL;VALUE=URI:https://www.brightonlakescdd.org/calendar/2250023/cdd-special
 -meeting-jun-2020
DTSTART:20200601T213000Z
DTEND:20200601T223000Z
ATTACH;FILENAME=2020-06-01 BRIGHTON LAKES AGENDA PACKAGE.PDF;FMTTYPE=applic
 ation/pdf:https://campussuite-storage.s3.amazonaws.com/prod/1558934/f0cde5
 70-f050-11e9-8800-12606da399aa/2102068/331fffca-9c2d-11ea-a65b-12ef1c385e6
 d/file/2020-06-01 BRIGHTON LAKES AGENDA PACKAGE.PDF
END:VEVENT
END:VCALENDAR
