BEGIN:VCALENDAR
VERSION:2.0
PRODID:SchoolNow
CALSCALE:GREGORIAN
BEGIN:VEVENT
UID:d4318136-029f-11ea-b6d4-0a77219c272f
DTSTAMP:20201106T131619Z
SUMMARY:CDD Board Meeting - Sep. 2020
LOCATION:Meeting ID: 873 0359 5474 Meeting URL: https://us02web.zoom.us/j/8
 7303595474 Call in number: (929) 205-6099
URL;VALUE=URI:https://www.brightonlakescdd.org/calendar/2142347/cdd-board-m
 eeting-sep-2020
DTSTART:20200903T220000Z
DTEND:20200903T230000Z
ATTACH;FILENAME=2020-09-03 Brighton Lakes Agenda.pdf;FMTTYPE=application/pd
 f:https://campussuite-storage.s3.amazonaws.com/prod/1558934/f0cde570-f050-
 11e9-8800-12606da399aa/2151231/940accec-e878-11ea-82b1-0a42b6c1e3b5/file/2
 020-09-03 Brighton Lakes Agenda.pdf
ATTACH;FILENAME=2020-09-03 Brighton Lakes Regular Meeting.pdf;FMTTYPE=appli
 cation/pdf:https://campussuite-storage.s3.amazonaws.com/prod/1558934/f0cde
 570-f050-11e9-8800-12606da399aa/2181029/2eb3f746-2032-11eb-ba98-0a870f330f
 f1/file/2020-09-03 Brighton Lakes Regular Meeting.pdf
END:VEVENT
END:VCALENDAR
