BEGIN:VCALENDAR
VERSION:2.0
PRODID:SchoolNow
CALSCALE:GREGORIAN
BEGIN:VEVENT
UID:ca12af2c-029f-11ea-a1d0-127167ec3845
DTSTAMP:20200905T191550Z
SUMMARY:CDD Board Meeting - Jul. 2020
LOCATION:Webex: Access Code: 628 943 236 and Password: mU3mzu8fpg8 (6836988
 3 from phones and video systems) By phone 1-408-418-9388 Access Code: 628 
 943 236 Password: 68369883
URL;VALUE=URI:https://www.brightonlakescdd.org/calendar/2142346/cdd-board-m
 eeting-jul-2020
DTSTART:20200702T220000Z
DTEND:20200702T230000Z
ATTACH;FILENAME=2020-07-02 BRIGHTON LAKES CDD AGENDA PACKAGE.PDF;FMTTYPE=ap
 plication/pdf:https://campussuite-storage.s3.amazonaws.com/prod/1558934/f0
 cde570-f050-11e9-8800-12606da399aa/2117892/27f3d578-b4b4-11ea-b608-12e9c2b
 85ca3/file/2020-07-02 BRIGHTON LAKES CDD AGENDA PACKAGE.PDF
ATTACH;FILENAME=2020-07-02 Brighton Lakes Executed Meeting Mins..pdf;FMTTYP
 E=application/pdf:https://campussuite-storage.s3.amazonaws.com/prod/155893
 4/f0cde570-f050-11e9-8800-12606da399aa/2155429/330c2496-efac-11ea-a00f-128
 32c07d375/file/2020-07-02 Brighton Lakes Executed Meeting Mins..pdf
END:VEVENT
END:VCALENDAR
