BEGIN:VCALENDAR
VERSION:2.0
PRODID:SchoolNow
CALSCALE:GREGORIAN
BEGIN:VEVENT
UID:056ecd40-029f-11ea-a144-0a01e8ae18db
DTSTAMP:20200428T180723Z
SUMMARY:CDD Board Meeting - May 2020
LOCATION:This meeting will be held via teleconference: Call in #: 800-747-5
 150 Access Code: 8185960#
URL;VALUE=URI:https://www.brightonlakescdd.org/calendar/2142345/cdd-board-m
 eeting-may-2020
DTSTART:20200507T220000Z
DTEND:20200507T230000Z
ATTACH;FILENAME=2020-05-07 BRIGHTON LAKES AGENDA PACKAGE.pdf;FMTTYPE=applic
 ation/pdf:https://campussuite-storage.s3.amazonaws.com/prod/1558934/f0cde5
 70-f050-11e9-8800-12606da399aa/2089544/d08fc520-8976-11ea-a60e-0ab8a67dc76
 5/file/2020-05-07 BRIGHTON LAKES AGENDA PACKAGE.pdf
END:VEVENT
END:VCALENDAR
