BEGIN:VCALENDAR
VERSION:2.0
PRODID:SchoolNow
CALSCALE:GREGORIAN
BEGIN:VEVENT
UID:f54de9dc-029e-11ea-bba7-0a01e8ae18db
DTSTAMP:20200225T220203Z
SUMMARY:CDD Board Meeting - Mar. 2020
LOCATION:Brighton Lakes Recreation Center\, 4250 Brighton Lakes Boulevard\,
  Kissimmee\, Florida 34746
URL;VALUE=URI:https://www.brightonlakescdd.org/calendar/2142344/cdd-board-m
 eeting-mar-2020
DTSTART:20200305T230000Z
DTEND:20200306T000000Z
ATTACH;FILENAME=2020-03-05 BRIGHTON LAKES CDD AGENDA PACKAGE.PDF;FMTTYPE=ap
 plication/pdf:https://campussuite-storage.s3.amazonaws.com/prod/1558934/f0
 cde570-f050-11e9-8800-12606da399aa/2055758/67d12110-5810-11ea-a507-0aa7643
 9923d/file/2020-03-05 BRIGHTON LAKES CDD AGENDA PACKAGE.PDF
ATTACH;FILENAME=2020-03-05 Workshop Agenda.pdf;FMTTYPE=application/pdf:http
 s://campussuite-storage.s3.amazonaws.com/prod/1558934/f0cde570-f050-11e9-8
 800-12606da399aa/2055847/71ce4396-581a-11ea-a8de-125c067c4fa5/file/2020-03
 -05 Workshop Agenda.pdf
END:VEVENT
END:VCALENDAR
