BEGIN:VCALENDAR
VERSION:2.0
PRODID:SchoolNow
CALSCALE:GREGORIAN
BEGIN:VEVENT
UID:e54cf370-029e-11ea-8ce7-0a01e8ae18db
DTSTAMP:20200905T191606Z
SUMMARY:CDD Board Meeting - Jan. 2020
LOCATION:Brighton Lakes Recreation Center\, 4250 Brighton Lakes Boulevard\,
  Kissimmee\, Florida 34746
URL;VALUE=URI:https://www.brightonlakescdd.org/calendar/2142343/cdd-board-m
 eeting-jan-2020
DTSTART:20200116T230000Z
DTEND:20200117T000000Z
ATTACH;FILENAME=2020-06-01 Brighton Lakes Executed Meeting Mins..pdf;FMTTYP
 E=application/pdf:https://campussuite-storage.s3.amazonaws.com/prod/155893
 4/f0cde570-f050-11e9-8800-12606da399aa/2155428/330c1f50-efac-11ea-a52b-128
 32c07d375/file/2020-06-01 Brighton Lakes Executed Meeting Mins..pdf
END:VEVENT
END:VCALENDAR
