BEGIN:VCALENDAR
VERSION:2.0
PRODID:SchoolNow
CALSCALE:GREGORIAN
BEGIN:VEVENT
UID:d6258420-029e-11ea-a478-127167ec3845
DTSTAMP:20200526T184223Z
SUMMARY:CDD Board Meeting - Nov. 2019
LOCATION:Brighton Lakes Recreation Center\, 4250 Brighton Lakes Boulevard\,
  Kissimmee\, Florida 34746
URL;VALUE=URI:https://www.brightonlakescdd.org/calendar/2142342/cdd-board-m
 eeting-nov-2019
DTSTART:20191107T230000Z
DTEND:20191108T000000Z
ATTACH;FILENAME=2019-11-07 BRIGHTON LAKES  AGENDA PACKAGE-PART 1.pdf;FMTTYP
 E=application/pdf:https://campussuite-storage.s3.amazonaws.com/prod/155893
 4/f0cde570-f050-11e9-8800-12606da399aa/2103267/8b2fec7e-9f80-11ea-8370-0ab
 651cbc40d/file/2019-11-07 BRIGHTON LAKES  AGENDA PACKAGE-PART 1.pdf
ATTACH;FILENAME=2019-11-07 BRIGHTON LAKES AGENDA PACKAGE-PART 2.pdf;FMTTYPE
 =application/pdf:https://campussuite-storage.s3.amazonaws.com/prod/1558934
 /f0cde570-f050-11e9-8800-12606da399aa/2103266/8b2fe774-9f80-11ea-b4c0-0ab6
 51cbc40d/file/2019-11-07 BRIGHTON LAKES AGENDA PACKAGE-PART 2.pdf
END:VEVENT
END:VCALENDAR
