BEGIN:VCALENDAR
VERSION:2.0
PRODID:SchoolNow
CALSCALE:GREGORIAN
BEGIN:VEVENT
UID:12bddb18-029e-11ea-95ea-12c5c006e3f1
DTSTAMP:20191109T031207Z
SUMMARY:CDD Board Meeting - Oct. 2019
LOCATION:Brighton Lakes Recreation Center\, 4250 Brighton Lakes Boulevard\,
  Kissimmee\, Florida 34746
URL;VALUE=URI:https://www.brightonlakescdd.org/calendar/2142341/cdd-board-m
 eeting-oct-2019
DTSTART:20191022T220000Z
DTEND:20191022T230000Z
END:VEVENT
END:VCALENDAR
